BEGIN:VCALENDAR
VERSION:2.0
PRODID:-//jEvents 2.0 for Joomla//EN
CALSCALE:GREGORIAN
METHOD:PUBLISH
BEGIN:VEVENT
UID:e8bb2011ec9212ee8d161c960acd75cb
CATEGORIES:Entrainements / Massif
CREATED:20200302T205919
SUMMARY:mercredi apm
URL;VALUE=URI:https://thannski.com/component/jevents/detailevenement/793/-/mercredi-apm?I
 temid=1&amp;tmpl=component
DESCRIPTION:skis d'entrainement\n Cet évènement a été importé depuis :https://thannski.
 com/component/jevents/detailevenement/793/-/mercredi-apm?Itemid=1&amp;tmpl=
 component
X-ALT-DESC;FMTTYPE=text/html:<p>skis d'entrainement</p> <a href="https://thannski.com/component/jevents/
 detailevenement/793/-/mercredi-apm?Itemid=1&amp;tmpl=component">Cet évèneme
 nt a été importé depuis :https://thannski.com/component/jevents/detailevene
 ment/793/-/mercredi-apm?Itemid=1&amp;tmpl=component</a>DTSTAMP:20260425T021426
DTSTART:20200304T130000
DTEND:20200304T170000
SEQUENCE:0
TRANSP:OPAQUE
END:VEVENT
END:VCALENDAR