BEGIN:VCALENDAR
VERSION:2.0
PRODID:-//jEvents 2.0 for Joomla//EN
CALSCALE:GREGORIAN
METHOD:PUBLISH
BEGIN:VEVENT
UID:def67717d8a966966bce85082ba541be
CATEGORIES:Compétitions
CREATED:20200304T205201
SUMMARY:courses SL La Bresse
URL;VALUE=URI:https://thannski.com/component/jevents/detailevenement/794/-/courses-sl-la-
 bresse?Itemid=1&amp;tmpl=component
DESCRIPTION:Ces courses peuvent concerner les compétiteurs qui ne sont pas engagés pour
  Zinal.\nsamedi pour les U8-&gt;U14\ndimanche pour les U16 et plus\n \nDisc
 ipline Slalom\n Cet évènement a été importé depuis :https://thannski.com/co
 mponent/jevents/detailevenement/794/-/courses-sl-la-bresse?Itemid=1&amp;tmp
 l=component
X-ALT-DESC;FMTTYPE=text/html:<p>Ces courses peuvent concerner les compétiteurs qui ne sont pas engagés p
 our Zinal.</p><p>samedi pour les U8-&gt;U14</p><p>dimanche pour les U16 et 
 plus</p><p>&nbsp;</p><p>Discipline Slalom</p> <a href="https://thannski.com
 /component/jevents/detailevenement/794/-/courses-sl-la-bresse?Itemid=1&amp;
 tmpl=component">Cet évènement a été importé depuis :https://thannski.com/co
 mponent/jevents/detailevenement/794/-/courses-sl-la-bresse?Itemid=1&amp;tmp
 l=component</a>DTSTAMP:20260425T025109
DTSTART;VALUE=DATE:20200307
DTEND;VALUE=DATE:20200309
SEQUENCE:0
TRANSP:OPAQUE
END:VEVENT
END:VCALENDAR