BEGIN:VCALENDAR
VERSION:2.0
PRODID:-//jEvents 2.0 for Joomla//EN
CALSCALE:GREGORIAN
METHOD:PUBLISH
BEGIN:VEVENT
UID:edd1c59dff41673d017ba5f8c776d285
CATEGORIES:Autres Activités
CREATED:20200306T200104
SUMMARY:minibus la bresse samedi 6 mars
URL;VALUE=URI:https://thannski.com/component/jevents/detailevenement/795/-/minibus-la-bre
 sse-samedi-6-mars?Itemid=1&amp;tmpl=component
DESCRIPTION:Bonjour à tous\ninscrivez vous ici si vous avez besoin d'un transport\nRDV 
 7H45 CHEZ ARDIZIO\n Cet évènement a été importé depuis :https://thannski.co
 m/component/jevents/detailevenement/795/-/minibus-la-bresse-samedi-6-mars?I
 temid=1&amp;tmpl=component
X-ALT-DESC;FMTTYPE=text/html:<p>Bonjour à tous</p><p>inscrivez vous ici si vous avez besoin d'un transpo
 rt</p><p>RDV 7H45 CHEZ ARDIZIO</p> <a href="https://thannski.com/component/
 jevents/detailevenement/795/-/minibus-la-bresse-samedi-6-mars?Itemid=1&amp;
 tmpl=component">Cet évènement a été importé depuis :https://thannski.com/co
 mponent/jevents/detailevenement/795/-/minibus-la-bresse-samedi-6-mars?Itemi
 d=1&amp;tmpl=component</a>DTSTAMP:20260425T021542
DTSTART:20200307T080000
DTEND:20200307T170000
SEQUENCE:0
TRANSP:OPAQUE
END:VEVENT
END:VCALENDAR