BEGIN:VCALENDAR
VERSION:2.0
PRODID:-//jEvents 2.0 for Joomla//EN
CALSCALE:GREGORIAN
METHOD:PUBLISH
BEGIN:VEVENT
UID:03d5b0d0a9748c2a9ce1d4244155ebb0
CATEGORIES:Autres Activités
CREATED:20200306T200651
SUMMARY:minibus la bresse dimanche 8 mars
URL;VALUE=URI:https://thannski.com/component/jevents/detailevenement/796/-/minibus-la-bre
 sse-dimanche-8-mars?Itemid=1&amp;tmpl=component
DESCRIPTION:Un déplacement minibus est proposé pour la course\nMerci de vous inscrire s
 i vous avez besoin d'un transport\n \n Cet évènement a été importé depuis :
 https://thannski.com/component/jevents/detailevenement/796/-/minibus-la-bre
 sse-dimanche-8-mars?Itemid=1&amp;tmpl=component
X-ALT-DESC;FMTTYPE=text/html:<p>Un déplacement minibus est proposé pour la course</p><p>Merci de vous in
 scrire si vous avez besoin d'un transport</p><p>&nbsp;</p> <a href="https:/
 /thannski.com/component/jevents/detailevenement/796/-/minibus-la-bresse-dim
 anche-8-mars?Itemid=1&amp;tmpl=component">Cet évènement a été importé depui
 s :https://thannski.com/component/jevents/detailevenement/796/-/minibus-la-
 bresse-dimanche-8-mars?Itemid=1&amp;tmpl=component</a>DTSTAMP:20260425T021551
DTSTART:20200308T080000
DTEND:20200308T170000
SEQUENCE:0
TRANSP:OPAQUE
END:VEVENT
END:VCALENDAR