BEGIN:VCALENDAR
VERSION:2.0
PRODID:-//jEvents 2.0 for Joomla//EN
CALSCALE:GREGORIAN
METHOD:PUBLISH
BEGIN:VEVENT
UID:149ef2aebbc03236e408af0ff4bd7e7a
CATEGORIES:Entrainements / Massif
CREATED:20200310T194511
SUMMARY:entraînement mercredi matin
URL;VALUE=URI:https://thannski.com/component/jevents/detailevenement/801/-/entrainement-m
 ercredi-matin?Itemid=1&amp;tmpl=component
DESCRIPTION:Entraînement mercredi matin ski slalom\n8 places\nRdv 8h\nRetour 12h45\nCom
 pte tenu du contexte sanitaire, si votre enfant semble fébrile veuillez ne 
 pas l'inscrire. Merci!\n Cet évènement a été importé depuis :https://thanns
 ki.com/component/jevents/detailevenement/801/-/entrainement-mercredi-matin?
 Itemid=1&amp;tmpl=component
X-ALT-DESC;FMTTYPE=text/html:<p>Entraînement mercredi matin ski slalom</p><p>8 places</p><p>Rdv 8h</p><p
 >Retour 12h45</p><p>Compte tenu du contexte sanitaire, si votre enfant semb
 le fébrile veuillez ne pas l'inscrire. Merci!</p> <a href="https://thannski
 .com/component/jevents/detailevenement/801/-/entrainement-mercredi-matin?It
 emid=1&amp;tmpl=component">Cet évènement a été importé depuis :https://than
 nski.com/component/jevents/detailevenement/801/-/entrainement-mercredi-mati
 n?Itemid=1&amp;tmpl=component</a>DTSTAMP:20260425T010111
DTSTART:20200311T080000
SEQUENCE:0
TRANSP:OPAQUE
END:VEVENT
END:VCALENDAR