BEGIN:VCALENDAR
VERSION:2.0
PRODID:-//jEvents 2.0 for Joomla//EN
CALSCALE:GREGORIAN
METHOD:PUBLISH
BEGIN:VEVENT
UID:14a40b2954032d0012cb7dbb62d8809c
CATEGORIES:Autres Activités
CREATED:20220512T213744
SUMMARY:Essayage veste 16h 16h30
URL;VALUE=URI:https://thannski.com/component/jevents/detailevenement/1048/-/essayage-vest
 e-16h-16h30?Itemid=44&amp;tmpl=component
DESCRIPTION: Cet évènement a été importé depuis :https://thannski.com/component/jevents
 /detailevenement/1048/-/essayage-veste-16h-16h30?Itemid=44&amp;tmpl=compone
 nt
X-ALT-DESC;FMTTYPE=text/html: <a href="https://thannski.com/component/jevents/detailevenement/1048/-/ess
 ayage-veste-16h-16h30?Itemid=44&amp;tmpl=component">Cet évènement a été imp
 orté depuis :https://thannski.com/component/jevents/detailevenement/1048/-/
 essayage-veste-16h-16h30?Itemid=44&amp;tmpl=component</a>DTSTAMP:20260424T210921
DTSTART:20220518T160000
DTEND:20220518T163000
SEQUENCE:0
TRANSP:OPAQUE
END:VEVENT
END:VCALENDAR