BEGIN:VCALENDAR
VERSION:2.0
PRODID:-//jEvents 2.0 for Joomla//EN
CALSCALE:GREGORIAN
METHOD:PUBLISH
BEGIN:VEVENT
UID:c2aaf42052ed8d5b0a45437611d5557b
CATEGORIES:Prépa Physique
CREATED:20220517T093156
SUMMARY:ent physique mercredi 18 mai
URL;VALUE=URI:https://thannski.com/component/jevents/detailevenement/1053/-/ent-physique-
 mercredi-18-mai?Itemid=44&amp;tmpl=component
DESCRIPTION:Bonjour à tous\nDemain sport en espérant que vous serez assez nombreux\nDép
 art 13h40 de Saint Amarin 13h50 piscine de Thann 14 H stade de Roderen\nRet
 our 16h devant le centre sportif de Thann et 16H45 à Saint Amarin\n Cet évè
 nement a été importé depuis :https://thannski.com/component/jevents/detaile
 venement/1053/-/ent-physique-mercredi-18-mai?Itemid=44&amp;tmpl=component
X-ALT-DESC;FMTTYPE=text/html:<p>Bonjour à tous</p><p>Demain sport en espérant que vous serez assez nombr
 eux</p><p>Départ 13h40 de Saint Amarin 13h50 piscine de Thann 14 H stade de
  Roderen</p><p>Retour 16h devant le centre sportif de Thann et 16H45 à Sain
 t Amarin</p> <a href="https://thannski.com/component/jevents/detailevenemen
 t/1053/-/ent-physique-mercredi-18-mai?Itemid=44&amp;tmpl=component">Cet évè
 nement a été importé depuis :https://thannski.com/component/jevents/detaile
 venement/1053/-/ent-physique-mercredi-18-mai?Itemid=44&amp;tmpl=component</
 a>DTSTAMP:20260424T210920
DTSTART:20220518T140000
DTEND:20220518T170000
SEQUENCE:0
TRANSP:OPAQUE
END:VEVENT
END:VCALENDAR