BEGIN:VCALENDAR
VERSION:2.0
PRODID:-//jEvents 2.0 for Joomla//EN
CALSCALE:GREGORIAN
METHOD:PUBLISH
BEGIN:VEVENT
UID:9dca687ba711138b739f9ca91cf6a6ca
CATEGORIES:Prépa Physique
CREATED:20220606T180205
SUMMARY:tir à l'arc mercredi ap midi 8 juin
URL;VALUE=URI:https://thannski.com/component/jevents/detailevenement/1056/-/tir-a-larc-me
 rcredi-ap-midi-8-juin?Itemid=44&amp;tmpl=component
DESCRIPTION:Bonjour à tous\nCe mercredi ap midi tir à l'arc avec Sophie.\nRDV 13h30 à l
 a piscine de Thann ou 13H45 sur le parking avant le collège de Saint Amarin
 \nRetour 16H30 environ à saint amarin 16H45 à la piscine\nPrévoir 10 euros.
 \nInscrivez vous vite!\n Cet évènement a été importé depuis :https://thanns
 ki.com/component/jevents/detailevenement/1056/-/tir-a-larc-mercredi-ap-midi
 -8-juin?Itemid=44&amp;tmpl=component
X-ALT-DESC;FMTTYPE=text/html:<p>Bonjour à tous</p><p>Ce mercredi ap midi tir à l'arc avec Sophie.</p><p>
 RDV 13h30 à la piscine de Thann ou 13H45 sur le parking avant le collège de
  Saint Amarin</p><p>Retour 16H30 environ à saint amarin 16H45 à la piscine<
 /p><p>Prévoir 10 euros.</p><p>Inscrivez vous vite!</p> <a href="https://tha
 nnski.com/component/jevents/detailevenement/1056/-/tir-a-larc-mercredi-ap-m
 idi-8-juin?Itemid=44&amp;tmpl=component">Cet évènement a été importé depuis
  :https://thannski.com/component/jevents/detailevenement/1056/-/tir-a-larc-
 mercredi-ap-midi-8-juin?Itemid=44&amp;tmpl=component</a>DTSTAMP:20260424T211037
DTSTART:20220608T133000
DTEND:20220608T170000
SEQUENCE:0
TRANSP:OPAQUE
END:VEVENT
END:VCALENDAR