BEGIN:VCALENDAR
VERSION:2.0
PRODID:-//jEvents 2.0 for Joomla//EN
CALSCALE:GREGORIAN
METHOD:PUBLISH
BEGIN:VEVENT
UID:356d18236f745d52fa3f7eb1ba4931f6
CATEGORIES:Entrainements / Massif
CREATED:20260424T081951
SUMMARY:stage ascension du 12 ou 13 au 16 au 17 mai 
URL;VALUE=URI:https://thannski.com/component/jevents/detailevenement/1428/-/stage-ascensi
 on-du-12-ou-13-au-16-au-17-mai?Itemid=44&amp;tmpl=component
DESCRIPTION: Cet évènement a été importé depuis :https://thannski.com/component/jevents
 /detailevenement/1428/-/stage-ascension-du-12-ou-13-au-16-au-17-mai?Itemid=
 44&amp;tmpl=component
X-ALT-DESC;FMTTYPE=text/html: <a href="https://thannski.com/component/jevents/detailevenement/1428/-/sta
 ge-ascension-du-12-ou-13-au-16-au-17-mai?Itemid=44&amp;tmpl=component">Cet 
 évènement a été importé depuis :https://thannski.com/component/jevents/deta
 ilevenement/1428/-/stage-ascension-du-12-ou-13-au-16-au-17-mai?Itemid=44&am
 p;tmpl=component</a>DTSTAMP:20260424T133418
DTSTART:20260512T080000
DTEND:20260516T170000
SEQUENCE:0
TRANSP:OPAQUE
END:VEVENT
END:VCALENDAR