BEGIN:VCALENDAR
VERSION:2.0
PRODID:-//jEvents 2.0 for Joomla//EN
CALSCALE:GREGORIAN
METHOD:PUBLISH
BEGIN:VEVENT
UID:22e9299420c25dea818a743c5ac66f7b
CATEGORIES:Prépa Physique
CREATED:20200114T113015
SUMMARY:Entraînement mercredi 15 janvier
URL;VALUE=URI:https://thannski.com/component/jevents/detailevenement/765/-/entrainement-m
 ercredi-15-janvier?Itemid=44&amp;tmpl=component
DESCRIPTION:Entraînement rollers avec le vtm\nIl faut avoir des rollers, un casque et d
 es protections\nRDV 13H15 au CAP\n13H30 à la piscine de Thann\nRetour 16h30
  à Thann 16h45 au CAP\n Cet évènement a été importé depuis :https://thannsk
 i.com/component/jevents/detailevenement/765/-/entrainement-mercredi-15-janv
 ier?Itemid=44&amp;tmpl=component
X-ALT-DESC;FMTTYPE=text/html:<p>Entraînement rollers avec le vtm</p><p>Il faut avoir des rollers, un cas
 que et des protections</p><p>RDV 13H15 au CAP</p><p>13H30 à la piscine de T
 hann</p><p>Retour 16h30 à Thann 16h45 au CAP</p> <a href="https://thannski.
 com/component/jevents/detailevenement/765/-/entrainement-mercredi-15-janvie
 r?Itemid=44&amp;tmpl=component">Cet évènement a été importé depuis :https:/
 /thannski.com/component/jevents/detailevenement/765/-/entrainement-mercredi
 -15-janvier?Itemid=44&amp;tmpl=component</a>DTSTAMP:20260424T200844
DTSTART:20200115T131500
DTEND:20200115T170000
SEQUENCE:0
TRANSP:OPAQUE
END:VEVENT
END:VCALENDAR