BEGIN:VCALENDAR
VERSION:2.0
PRODID:-//jEvents 2.0 for Joomla//EN
CALSCALE:GREGORIAN
METHOD:PUBLISH
BEGIN:VEVENT
UID:b8f2a940009a5c15c50a92323eb571a8
CATEGORIES:Entrainements / Massif
CREATED:20200120T183035
SUMMARY:SSS1
LOCATION:Markstein
URL;VALUE=URI:https://thannski.com/component/jevents/detailevenement/767/-/sss1?Itemid=44
 &amp;tmpl=component
DESCRIPTION:SSS Ski WAlch sortie 1, Départ 13h au Clg retour idem 17h30\n Cet évènement
  a été importé depuis :https://thannski.com/component/jevents/detaileveneme
 nt/767/-/sss1?Itemid=44&amp;tmpl=component
X-ALT-DESC;FMTTYPE=text/html:<p>SSS Ski WAlch sortie 1, Départ 13h au Clg retour idem 17h30</p> <a href=
 "https://thannski.com/component/jevents/detailevenement/767/-/sss1?Itemid=4
 4&amp;tmpl=component">Cet évènement a été importé depuis :https://thannski.
 com/component/jevents/detailevenement/767/-/sss1?Itemid=44&amp;tmpl=compone
 nt</a>DTSTAMP:20260424T200138
DTSTART:20200121T130000
DTEND:20200121T173000
SEQUENCE:0
TRANSP:OPAQUE
END:VEVENT
END:VCALENDAR