BEGIN:VCALENDAR
VERSION:2.0
PRODID:-//jEvents 2.0 for Joomla//EN
CALSCALE:GREGORIAN
METHOD:PUBLISH
BEGIN:VEVENT
UID:9b2162d328ac6bb9b640623564399623
CATEGORIES:Entrainements / Massif
CREATED:20200121T085142
SUMMARY:ent mercredi ap midi  mercredi 22 janvier
URL;VALUE=URI:https://thannski.com/component/jevents/detailevenement/769/-/ent-mercredi-a
 p-midi-mercredi-22-janvier?Itemid=44&amp;tmpl=component
DESCRIPTION:Bonjour\nLe Markstein prévoit d'ouvrir le tremplin 1 et 2\nEntrainement ski
  technique (skis de slalom d'entraînement si possible)\nentraînement mainte
 nu!\nDépart 12h45 chez Ardizio\nretour environ 17h30\n Cet évènement a été 
 importé depuis :https://thannski.com/component/jevents/detailevenement/769/
 -/ent-mercredi-ap-midi-mercredi-22-janvier?Itemid=44&amp;tmpl=component (ht
 tps://thannski.com/component/jevents/detailevenement/769/-/ent-mercredi-ap-
 midi-mercredi-22-janvier?Itemid=44&amp;tmpl=component)
X-ALT-DESC;FMTTYPE=text/html:<p>Bonjour</p><p>Le Markstein prévoit d'ouvrir le tremplin 1 et 2</p><p>Ent
 rainement ski technique (skis de slalom d'entraînement si possible)</p><p><
 span style="text-decoration: underline; font-size: 18pt;"><strong>entraînem
 ent maintenu!</strong></span></p><p>Départ 12h45 chez Ardizio</p><p>retour 
 environ 17h30</p> <a href="https://thannski.com/component/jevents/detaileve
 nement/769/-/ent-mercredi-ap-midi-mercredi-22-janvier?Itemid=44&amp;tmpl=co
 mponent">Cet évènement a été importé depuis :https://thannski.com/component
 /jevents/detailevenement/769/-/ent-mercredi-ap-midi-mercredi-22-janvier?Ite
 mid=44&amp;tmpl=component</a>DTSTAMP:20260424T201122
DTSTART:20200122T124500
DTEND:20200122T173000
SEQUENCE:0
TRANSP:OPAQUE
END:VEVENT
END:VCALENDAR