BEGIN:VCALENDAR
VERSION:2.0
PRODID:-//jEvents 2.0 for Joomla//EN
CALSCALE:GREGORIAN
METHOD:PUBLISH
BEGIN:VEVENT
UID:a09b834b2e5a743e083bda229b1736cc
CATEGORIES:Entrainements / Massif
CREATED:20200127T190230
SUMMARY:SSS 2
URL;VALUE=URI:https://thannski.com/component/jevents/detailevenement/771/-/sss-2?Itemid=4
 4&amp;tmpl=component
DESCRIPTION:Départ 13h College\n Cet évènement a été importé depuis :https://thannski.c
 om/component/jevents/detailevenement/771/-/sss-2?Itemid=44&amp;tmpl=compone
 nt
X-ALT-DESC;FMTTYPE=text/html:<p>Départ 13h College</p> <a href="https://thannski.com/component/jevents/d
 etailevenement/771/-/sss-2?Itemid=44&amp;tmpl=component">Cet évènement a ét
 é importé depuis :https://thannski.com/component/jevents/detailevenement/77
 1/-/sss-2?Itemid=44&amp;tmpl=component</a>DTSTAMP:20260424T200144
DTSTART:20200128T130000
DTEND:20200128T170000
SEQUENCE:0
TRANSP:OPAQUE
END:VEVENT
END:VCALENDAR