BEGIN:VCALENDAR
VERSION:2.0
PRODID:-//jEvents 2.0 for Joomla//EN
CALSCALE:GREGORIAN
METHOD:PUBLISH
BEGIN:VEVENT
UID:f7da8f6a22ab23bf0a298149e980940b
CATEGORIES:Entrainements / Massif
CREATED:20200128T084341
SUMMARY:ent mercredi ap midi  mercredi 29 janvier
URL;VALUE=URI:https://thannski.com/component/jevents/detailevenement/773/-/ent-mercredi-a
 p-midi-mercredi-29-janvier?Itemid=44&amp;tmpl=component
DESCRIPTION:De la poudre avec un peu de chance!\nRDV 13H chez Ardizio et ramassage qui 
 suit\nconfirmé!\n Cet évènement a été importé depuis :https://thannski.com/
 component/jevents/detailevenement/773/-/ent-mercredi-ap-midi-mercredi-29-ja
 nvier?Itemid=44&amp;tmpl=component (https://thannski.com/component/jevents/
 detailevenement/773/-/ent-mercredi-ap-midi-mercredi-29-janvier?Itemid=44&am
 p;tmpl=component)
X-ALT-DESC;FMTTYPE=text/html:<p>De la poudre avec un peu de chance!</p><p>RDV 13H chez Ardizio et ramass
 age qui suit</p><p><span style="text-decoration: underline; font-size: 14pt
 ;"><strong>confirmé!</strong></span></p> <a href="https://thannski.com/comp
 onent/jevents/detailevenement/773/-/ent-mercredi-ap-midi-mercredi-29-janvie
 r?Itemid=44&amp;tmpl=component">Cet évènement a été importé depuis :https:/
 /thannski.com/component/jevents/detailevenement/773/-/ent-mercredi-ap-midi-
 mercredi-29-janvier?Itemid=44&amp;tmpl=component</a>DTSTAMP:20260424T200732
DTSTART:20200129T130000
DTEND:20200129T180000
SEQUENCE:0
TRANSP:OPAQUE
END:VEVENT
END:VCALENDAR