BEGIN:VCALENDAR
VERSION:2.0
PRODID:-//jEvents 2.0 for Joomla//EN
CALSCALE:GREGORIAN
METHOD:PUBLISH
BEGIN:VEVENT
UID:e2bb81624ead7a65f31cd8d9d3af1376
CATEGORIES:Entrainements / Massif
CREATED:20200128T220711
SUMMARY:Sortie journée Klewenalp ANNULEE
URL;VALUE=URI:https://thannski.com/component/jevents/detailevenement/774/-/sortie-journee
 -klewenalp-annulee?Itemid=44&amp;tmpl=component
DESCRIPTION:ANNULATION EN RAISON DES CONDITIONS METEO \n \n Cet évènement a été importé
  depuis :https://thannski.com/component/jevents/detailevenement/774/-/sorti
 e-journee-klewenalp-annulee?Itemid=44&amp;tmpl=component (https://thannski.
 com/component/jevents/detailevenement/774/-/sortie-journee-klewenalp-annule
 e?Itemid=44&amp;tmpl=component)
X-ALT-DESC;FMTTYPE=text/html:<p>ANNULATION EN RAISON DES CONDITIONS METEO&nbsp;</p><p>&nbsp;</p> <a href
 ="https://thannski.com/component/jevents/detailevenement/774/-/sortie-journ
 ee-klewenalp-annulee?Itemid=44&amp;tmpl=component">Cet évènement a été impo
 rté depuis :https://thannski.com/component/jevents/detailevenement/774/-/so
 rtie-journee-klewenalp-annulee?Itemid=44&amp;tmpl=component</a>DTSTAMP:20260424T200915
DTSTART:20200201T061500
DTEND:20200201T190000
SEQUENCE:0
TRANSP:OPAQUE
END:VEVENT
END:VCALENDAR