BEGIN:VCALENDAR
VERSION:2.0
PRODID:-//jEvents 2.0 for Joomla//EN
CALSCALE:GREGORIAN
METHOD:PUBLISH
BEGIN:VEVENT
UID:cb8c408e6da6d39623e98289b4f1f5e2
CATEGORIES:Stages hors Massif
CREATED:20200220T185359
SUMMARY:courses citadines les Gets
URL;VALUE=URI:https://thannski.com/component/jevents/detailevenement/785/-/courses-citadi
 nes-les-gets?Itemid=44&amp;tmpl=component
DESCRIPTION:Bonjour\nLa finale de la Coupe de France du jeune Citadin aura lieu  du 13 
 au 15 mars aux Gets (géant slalom)\nCette course est ouverte à tous les U14
  U16\nMerci de vous inscrire si vous êtes intéressés (bien sur le déplaceme
 nt est organisé)\nLes courses commencent le vendredi mais il y aura sans do
 ute la possibilité de rejoindre le vendredi soir\nLes coachs valideront la 
 liste des inscrits le 8 mars\n Cet évènement a été importé depuis :https://
 thannski.com/component/jevents/detailevenement/785/-/courses-citadines-les-
 gets?Itemid=44&amp;tmpl=component (https://thannski.com/component/jevents/d
 etailevenement/785/-/courses-citadines-les-gets?Itemid=44&amp;tmpl=componen
 t)
X-ALT-DESC;FMTTYPE=text/html:<p>Bonjour</p><p>La finale de la Coupe de France du jeune Citadin aura lieu
 &nbsp; du 13 au 15 mars aux Gets (géant slalom)</p><p>Cette course est ouve
 rte à tous les U14 U16</p><p>Merci de vous inscrire si vous êtes intéressés
  (bien sur le déplacement est organisé)</p><p>Les courses commencent le ven
 dredi mais il y aura sans doute la possibilité de rejoindre le vendredi soi
 r</p><p>Les coachs valideront la liste des inscrits le 8 mars</p> <a href="
 https://thannski.com/component/jevents/detailevenement/785/-/courses-citadi
 nes-les-gets?Itemid=44&amp;tmpl=component">Cet évènement a été importé depu
 is :https://thannski.com/component/jevents/detailevenement/785/-/courses-ci
 tadines-les-gets?Itemid=44&amp;tmpl=component</a>DTSTAMP:20260424T202056
DTSTART:20200313T080000
DTEND:20200315T170000
SEQUENCE:0
TRANSP:OPAQUE
END:VEVENT
END:VCALENDAR