BEGIN:VCALENDAR
VERSION:2.0
PRODID:-//jEvents 2.0 for Joomla//EN
CALSCALE:GREGORIAN
METHOD:PUBLISH
BEGIN:VEVENT
UID:61167fe73da048cc9cba5cf39ed042af
CATEGORIES:Stages hors Massif
CREATED:20200301T203719
SUMMARY:courses à ZINAL
URL;VALUE=URI:https://thannski.com/component/jevents/detailevenement/790/-/courses-a-zina
 l?Itemid=44&amp;tmpl=component
DESCRIPTION:le CD67 organise un week end de course à ZINAL en Suisse. plus d'infos sur 
 skivosges.net   \nUn déplacement collectif THANNSKI est en cours d'élaborat
 ion, \nSi vous êtes interessés merci de vous inscrire à cet évement ou cont
 acter un coach pour plus d'informations.\n \n Cet évènement a été importé d
 epuis :https://thannski.com/component/jevents/detailevenement/790/-/courses
 -a-zinal?Itemid=44&amp;tmpl=component (https://thannski.com/component/jeven
 ts/detailevenement/790/-/courses-a-zinal?Itemid=44&amp;tmpl=component)
X-ALT-DESC;FMTTYPE=text/html:<p>le CD67 organise un week end de course à ZINAL en Suisse. plus d'infos s
 ur skivosges.net &nbsp;&nbsp;</p><p>Un déplacement collectif THANNSKI est e
 n cours d'élaboration,&nbsp;</p><p>Si vous êtes interessés merci de vous in
 scrire à cet évement ou contacter un coach pour plus d'informations.</p><p>
 &nbsp;</p> <a href="https://thannski.com/component/jevents/detailevenement/
 790/-/courses-a-zinal?Itemid=44&amp;tmpl=component">Cet évènement a été imp
 orté depuis :https://thannski.com/component/jevents/detailevenement/790/-/c
 ourses-a-zinal?Itemid=44&amp;tmpl=component</a>DTSTAMP:20260424T202006
DTSTART:20200306T160000
DTEND:20200308T210000
SEQUENCE:0
TRANSP:OPAQUE
END:VEVENT
END:VCALENDAR