BEGIN:VCALENDAR
VERSION:2.0
PRODID:-//jEvents 2.0 for Joomla//EN
CALSCALE:GREGORIAN
METHOD:PUBLISH
BEGIN:VEVENT
UID:0b14b1862c54c71045157adecddaf980
CATEGORIES:Stages hors Massif
CREATED:20200825T065250
SUMMARY:Stage TOUSSAINT 2
URL;VALUE=URI:https://thannski.com/component/jevents/detailevenement/823/-/stage-toussain
 t-2?Itemid=44&amp;tmpl=component
DESCRIPTION:Kaunertal du 25 au 30 octobre\ncatégories concernées : U 14 et + agés\n Cet
  évènement a été importé depuis :https://thannski.com/component/jevents/det
 ailevenement/823/-/stage-toussaint-2?Itemid=44&amp;tmpl=component (https://
 thannski.com/component/jevents/detailevenement/823/-/stage-toussaint-2?Item
 id=44&amp;tmpl=component)
X-ALT-DESC;FMTTYPE=text/html:<p>Kaunertal du 25 au 30 octobre</p><p>catégories concernées : U 14 et + ag
 és</p> <a href="https://thannski.com/component/jevents/detailevenement/823/
 -/stage-toussaint-2?Itemid=44&amp;tmpl=component">Cet évènement a été impor
 té depuis :https://thannski.com/component/jevents/detailevenement/823/-/sta
 ge-toussaint-2?Itemid=44&amp;tmpl=component</a>DTSTAMP:20260424T202931
DTSTART;VALUE=DATE:20201025
DTEND;VALUE=DATE:20201031
SEQUENCE:0
TRANSP:OPAQUE
END:VEVENT
END:VCALENDAR