BEGIN:VCALENDAR
VERSION:2.0
PRODID:-//jEvents 2.0 for Joomla//EN
CALSCALE:GREGORIAN
METHOD:PUBLISH
BEGIN:VEVENT
UID:94c90a3a436d32e23664712571adcea1
CATEGORIES:Stages hors Massif
CREATED:20200825T065807
SUMMARY:Stage NOEL
URL;VALUE=URI:https://thannski.com/component/jevents/detailevenement/826/-/stage-noel?Ite
 mid=44&amp;tmpl=component
DESCRIPTION:4 jours\n Cet évènement a été importé depuis :https://thannski.com/componen
 t/jevents/detailevenement/826/-/stage-noel?Itemid=44&amp;tmpl=component (ht
 tps://thannski.com/component/jevents/detailevenement/826/-/stage-noel?Itemi
 d=44&amp;tmpl=component)
X-ALT-DESC;FMTTYPE=text/html:<p>4 jours</p> <a href="https://thannski.com/component/jevents/detailevenem
 ent/826/-/stage-noel?Itemid=44&amp;tmpl=component">Cet évènement a été impo
 rté depuis :https://thannski.com/component/jevents/detailevenement/826/-/st
 age-noel?Itemid=44&amp;tmpl=component</a>DTSTAMP:20260424T201628
DTSTART;VALUE=DATE:20201218
DTEND;VALUE=DATE:20201223
SEQUENCE:0
TRANSP:OPAQUE
END:VEVENT
END:VCALENDAR