BEGIN:VCALENDAR
VERSION:2.0
PRODID:-//jEvents 2.0 for Joomla//EN
CALSCALE:GREGORIAN
METHOD:PUBLISH
BEGIN:VEVENT
UID:0e8c9a653f96014c92c714f05d81f07a
CATEGORIES:Stages hors Massif
CREATED:20210314T223046
SUMMARY:chronos châtel 2 au 4 avril 
URL;VALUE=URI:https://thannski.com/component/jevents/detailevenement/901/-/chronos-chatel
 -2-au-4-avril?Itemid=44&amp;tmpl=component
DESCRIPTION:Bonjour \napres le week end aux carroz à nous d'organiser deux jours de chr
 onos.\nDépart vendredi 2 avril vers 14h  retour dimanche avant le couvre fe
 u\nNous logerons au même endroit que les autres fois\nChronos en slalom et 
 en géant U10àU16\nAttention inscriptions obligatoires avant samedi 20 avril
 \n \n Cet évènement a été importé depuis :https://thannski.com/component/je
 vents/detailevenement/901/-/chronos-chatel-2-au-4-avril?Itemid=44&amp;tmpl=
 component
X-ALT-DESC;FMTTYPE=text/html:<p>Bonjour&nbsp;</p><p>apres le week end aux carroz à nous d'organiser deux
  jours de chronos.</p><p>Départ vendredi 2 avril vers 14h&nbsp; retour dima
 nche avant le couvre feu</p><p>Nous logerons au même endroit que les autres
  fois</p><p>Chronos en slalom et en géant U10àU16</p><p>Attention inscripti
 ons obligatoires avant samedi 20 avril</p><p>&nbsp;</p> <a href="https://th
 annski.com/component/jevents/detailevenement/901/-/chronos-chatel-2-au-4-av
 ril?Itemid=44&amp;tmpl=component">Cet évènement a été importé depuis :https
 ://thannski.com/component/jevents/detailevenement/901/-/chronos-chatel-2-au
 -4-avril?Itemid=44&amp;tmpl=component</a>DTSTAMP:20260424T190642
DTSTART:20210402T140000
DTEND:20210404T170000
SEQUENCE:0
TRANSP:OPAQUE
END:VEVENT
END:VCALENDAR