BEGIN:VCALENDAR
VERSION:2.0
PRODID:-//jEvents 2.0 for Joomla//EN
CALSCALE:GREGORIAN
METHOD:PUBLISH
BEGIN:VEVENT
UID:0353abe8e60a6f387d73755bb5883d83
CATEGORIES:Autres Activités
CREATED:20210802T150613
SUMMARY:stage préparation physique 24 au 27 août au markstein
URL;VALUE=URI:https://thannski.com/component/jevents/detailevenement/921/-/stage-preparat
 ion-physique-24-au-27-aout-au-markstein?Itemid=44&amp;tmpl=component
DESCRIPTION:Bonjour à tous\nComme chaque année le VT Mulhouse vous propose son stage de
  préparation physique du 24 au 27 août au Markstein idéal pour préparer la 
 saison de ski\nJe vous fourni le programme très rapidement\nInscrivez-vous 
 vite!!\n \n Cet évènement a été importé depuis :https://thannski.com/compon
 ent/jevents/detailevenement/921/-/stage-preparation-physique-24-au-27-aout-
 au-markstein?Itemid=44&amp;tmpl=component
X-ALT-DESC;FMTTYPE=text/html:<p>Bonjour à tous</p><p>Comme chaque année le VT Mulhouse vous propose son 
 stage de préparation physique du 24 au 27 août au Markstein idéal pour prép
 arer la saison de ski</p><p>Je vous fourni le programme très rapidement</p>
 <p>Inscrivez-vous vite!!</p><p>&nbsp;</p> <a href="https://thannski.com/com
 ponent/jevents/detailevenement/921/-/stage-preparation-physique-24-au-27-ao
 ut-au-markstein?Itemid=44&amp;tmpl=component">Cet évènement a été importé d
 epuis :https://thannski.com/component/jevents/detailevenement/921/-/stage-p
 reparation-physique-24-au-27-aout-au-markstein?Itemid=44&amp;tmpl=component
 </a>DTSTAMP:20260424T191326
DTSTART:20210824T080000
DTEND:20210827T170000
SEQUENCE:0
TRANSP:OPAQUE
END:VEVENT
END:VCALENDAR