BEGIN:VCALENDAR
VERSION:2.0
PRODID:-//jEvents 2.0 for Joomla//EN
CALSCALE:GREGORIAN
METHOD:PUBLISH
BEGIN:VEVENT
UID:a2529ad99f342a9ab1570d40365674f1
CATEGORIES:Prépa Physique
CREATED:20210902T072435
SUMMARY:laser game à Kruth mercredi 8septembre
URL;VALUE=URI:https://thannski.com/component/jevents/detailevenement/922/-/laser-game-a-k
 ruth-mercredi-8septembre?Itemid=44&amp;tmpl=component
DESCRIPTION:Bonjour à tous\nPour reprendre les entraînements en douceur, nous vous prop
 osons une partie de laser game à kruth le mercredi ap midi 8 septembre. RDV
  à la piscine de Thann à 13h30 et ramassage vallée\nSi pour une fois la mét
 éo est au rendez vous on fera également un tour de pédalo.\nPrévoir 18 euro
 s et des vêtements adaptés à la météo maillot et serviette.\nLa sortie peut
  se faire si nous sommes au minimum 6.\nInscrivez vous avant samedi septemb
 re s'il vous plaît\n Cet évènement a été importé depuis :https://thannski.c
 om/component/jevents/detailevenement/922/-/laser-game-a-kruth-mercredi-8sep
 tembre?Itemid=44&amp;tmpl=component (https://thannski.com/component/jevents
 /detailevenement/922/-/laser-game-a-kruth-mercredi-8septembre?Itemid=44&amp
 ;tmpl=component)
X-ALT-DESC;FMTTYPE=text/html:<p>Bonjour à tous</p><p>Pour reprendre les entraînements en douceur, nous v
 ous proposons une partie de laser game à kruth le mercredi ap midi 8 septem
 bre. RDV à la piscine de Thann à 13h30 et ramassage vallée</p><p>Si pour un
 e fois la météo est au rendez vous on fera également un tour de pédalo.</p>
 <p>Prévoir 18 euros et des vêtements adaptés à la météo maillot et serviett
 e.</p><p>La sortie peut se faire si nous sommes au minimum 6.</p><p>Inscriv
 ez vous avant samedi septembre s'il vous plaît</p> <a href="https://thannsk
 i.com/component/jevents/detailevenement/922/-/laser-game-a-kruth-mercredi-8
 septembre?Itemid=44&amp;tmpl=component">Cet évènement a été importé depuis 
 :https://thannski.com/component/jevents/detailevenement/922/-/laser-game-a-
 kruth-mercredi-8septembre?Itemid=44&amp;tmpl=component</a>DTSTAMP:20260424T191600
DTSTART:20210908T133000
DTEND:20210908T170000
SEQUENCE:0
TRANSP:OPAQUE
END:VEVENT
END:VCALENDAR