BEGIN:VCALENDAR
VERSION:2.0
PRODID:-//jEvents 2.0 for Joomla//EN
CALSCALE:GREGORIAN
METHOD:PUBLISH
BEGIN:VEVENT
UID:a0073b879e7b24098b7e732af5cbbe5c
CATEGORIES:Stages hors Massif
CREATED:20210914T065746
SUMMARY:stage Toussaint 1 du 24 au 29/10
URL;VALUE=URI:https://thannski.com/component/jevents/detailevenement/925/-/stage-toussain
 t-1-du-24-au-29-10?Itemid=44&amp;tmpl=component
DESCRIPTION:Bonjour\nInscrivez vous ici pour notre traditionnel stage de Kaunertal\nPou
 r les U14 et plus.\nSi vous êtes U12 ou moins ce sera la deuxième semaine. 
 Mais il est possible d'inverser les semaine en cas d'empêchement (vacances 
 ou autres)\nDépart dimanche retour vendredi\nMerci de vous inscrire le plus
  vite possible pour des raisons de logistique et au plus tard le 15 octobre
 .\nIl ne sera plus possible d'annuler après le 15 octobre.\nplus d'infos à 
 suivre\n Cet évènement a été importé depuis :https://thannski.com/component
 /jevents/detailevenement/925/-/stage-toussaint-1-du-24-au-29-10?Itemid=44&a
 mp;tmpl=component
X-ALT-DESC;FMTTYPE=text/html:<p>Bonjour</p><p>Inscrivez vous ici pour notre traditionnel stage de Kauner
 tal</p><p>Pour les U14 et plus.</p><p>Si vous êtes U12 ou moins ce sera la 
 deuxième semaine. Mais il est possible d'inverser les semaine en cas d'empê
 chement (vacances ou autres)</p><p>Départ dimanche retour vendredi</p><p>Me
 rci de vous inscrire le plus vite possible pour des raisons de logistique e
 t au plus tard le 15 octobre.</p><p>Il ne sera plus possible d'annuler aprè
 s le 15 octobre.</p><p>plus d'infos à suivre</p> <a href="https://thannski.
 com/component/jevents/detailevenement/925/-/stage-toussaint-1-du-24-au-29-1
 0?Itemid=44&amp;tmpl=component">Cet évènement a été importé depuis :https:/
 /thannski.com/component/jevents/detailevenement/925/-/stage-toussaint-1-du-
 24-au-29-10?Itemid=44&amp;tmpl=component</a>DTSTAMP:20260424T191331
DTSTART:20211024T080000
DTEND:20211029T170000
SEQUENCE:0
TRANSP:OPAQUE
END:VEVENT
END:VCALENDAR