BEGIN:VCALENDAR
VERSION:2.0
PRODID:-//jEvents 2.0 for Joomla//EN
CALSCALE:GREGORIAN
METHOD:PUBLISH
BEGIN:VEVENT
UID:f4ea943da5ffb2bb00317338b8008e6e
CATEGORIES:Stages hors Massif
CREATED:20210914T070424
SUMMARY:stage Toussaint 2 30 octobre au 5 novembre
URL;VALUE=URI:https://thannski.com/component/jevents/detailevenement/926/-/stage-toussain
 t-2-30-octobre-au-5-novembre?Itemid=44&amp;tmpl=component
DESCRIPTION:Bonjour\nInscrivez vous ici pour notre traditionnel stage de Kaunertal.\nPo
 ur les U12 et moins.\nLes U14 et plus sont la première semaine. Mais il y a
  possibilité d'inverser les semaine en cas d'empêchement (vacances ou autre
 s)\nplus d'informations à suivre..\nInscrivez vous le plus rapidement possi
 ble pour des raisons de logistique, avant le 15 octobre. Il ne sera plus po
 ssible d'annuler après le 15 octobre.\n Cet évènement a été importé depuis 
 :https://thannski.com/component/jevents/detailevenement/926/-/stage-toussai
 nt-2-30-octobre-au-5-novembre?Itemid=44&amp;tmpl=component (https://thannsk
 i.com/component/jevents/detailevenement/926/-/stage-toussaint-2-30-octobre-
 au-5-novembre?Itemid=44&amp;tmpl=component)
X-ALT-DESC;FMTTYPE=text/html:<p>Bonjour</p><p>Inscrivez vous ici pour notre traditionnel stage de Kauner
 tal.</p><p>Pour les U12 et moins.</p><p>Les U14 et plus sont la première se
 maine. Mais il y a possibilité d'inverser les semaine en cas d'empêchement 
 (vacances ou autres)</p><p>plus d'informations à suivre..</p><p>Inscrivez v
 ous le plus rapidement possible pour des raisons de logistique, avant le 15
  octobre. Il ne sera plus possible d'annuler après le 15 octobre.</p> <a hr
 ef="https://thannski.com/component/jevents/detailevenement/926/-/stage-tous
 saint-2-30-octobre-au-5-novembre?Itemid=44&amp;tmpl=component">Cet évènemen
 t a été importé depuis :https://thannski.com/component/jevents/detailevenem
 ent/926/-/stage-toussaint-2-30-octobre-au-5-novembre?Itemid=44&amp;tmpl=com
 ponent</a>DTSTAMP:20260424T191213
DTSTART:20211031T080000
DTEND:20211105T170000
SEQUENCE:0
TRANSP:OPAQUE
END:VEVENT
END:VCALENDAR