BEGIN:VCALENDAR
VERSION:2.0
PRODID:-//jEvents 2.0 for Joomla//EN
CALSCALE:GREGORIAN
METHOD:PUBLISH
BEGIN:VEVENT
UID:d425d7fabca1be75cb0e902a9271fba0
CATEGORIES:Stages hors Massif
CREATED:20211019T094531
SUMMARY:Stage ski du 10 au 13 Novembre
URL;VALUE=URI:https://thannski.com/component/jevents/detailevenement/931/-/stage-ski-du-1
 0-au-13-novembre?Itemid=44&amp;tmpl=component
DESCRIPTION:Bonjour à tous\nOuverture du traditionnel stage du 11 novembre à Kaunertal.
 \nLes conditions d'enneigement à ces dates sont souvent très bonnes profite
 z en .\nDépart mercredi vers 13h\nRetour samedi en soirée\nAttention le sta
 ge pourrais être annulé si trop peu de participants\nInscrivez vous vite!\n
  Cet évènement a été importé depuis :https://thannski.com/component/jevents
 /detailevenement/931/-/stage-ski-du-10-au-13-novembre?Itemid=44&amp;tmpl=co
 mponent
X-ALT-DESC;FMTTYPE=text/html:<p>Bonjour à tous</p><p>Ouverture du traditionnel stage du 11 novembre à Ka
 unertal.</p><p>Les conditions d'enneigement à ces dates sont souvent très b
 onnes profitez en .</p><p>Départ mercredi vers 13h</p><p>Retour samedi en s
 oirée</p><p>Attention le stage pourrais être annulé si trop peu de particip
 ants</p><p>Inscrivez vous vite!</p> <a href="https://thannski.com/component
 /jevents/detailevenement/931/-/stage-ski-du-10-au-13-novembre?Itemid=44&amp
 ;tmpl=component">Cet évènement a été importé depuis :https://thannski.com/c
 omponent/jevents/detailevenement/931/-/stage-ski-du-10-au-13-novembre?Itemi
 d=44&amp;tmpl=component</a>DTSTAMP:20260424T191326
DTSTART:20211110T080000
DTEND:20211113T170000
SEQUENCE:0
TRANSP:OPAQUE
END:VEVENT
END:VCALENDAR