BEGIN:VCALENDAR
VERSION:2.0
PRODID:-//jEvents 2.0 for Joomla//EN
CALSCALE:GREGORIAN
METHOD:PUBLISH
BEGIN:VEVENT
UID:a98e53a200c2c97d4bb5283680d96c23
CATEGORIES:Stages hors Massif
CREATED:20211115T150542
SUMMARY:Stage de Noel du 18 au 22 décembre
URL;VALUE=URI:https://thannski.com/component/jevents/detailevenement/934/-/stage-de-noel-
 du-18-au-22-decembre?Itemid=44&amp;tmpl=component
DESCRIPTION:Bonjour à tous\nInscrivez vous pour le traditionnel stage de décembre\nLe l
 ieu est encore à définir\nLe départ se fera le samedi aux alentours de 13ho
 o pour un retour le 22 en soirée.\nInscrivez vous s'il vous plaît avant le 
 1er décembre.\nMerci\n Cet évènement a été importé depuis :https://thannski
 .com/component/jevents/detailevenement/934/-/stage-de-noel-du-18-au-22-dece
 mbre?Itemid=44&amp;tmpl=component
X-ALT-DESC;FMTTYPE=text/html:<p>Bonjour à tous</p><p>Inscrivez vous pour le traditionnel stage de décemb
 re</p><p>Le lieu est encore à définir</p><p>Le départ se fera le samedi aux
  alentours de 13hoo pour un retour le 22 en soirée.</p><p>Inscrivez vous s'
 il vous plaît avant le 1er décembre.</p><p>Merci</p> <a href="https://thann
 ski.com/component/jevents/detailevenement/934/-/stage-de-noel-du-18-au-22-d
 ecembre?Itemid=44&amp;tmpl=component">Cet évènement a été importé depuis :h
 ttps://thannski.com/component/jevents/detailevenement/934/-/stage-de-noel-d
 u-18-au-22-decembre?Itemid=44&amp;tmpl=component</a>DTSTAMP:20260424T190641
DTSTART:20211218T080000
DTEND:20211222T170000
SEQUENCE:0
TRANSP:OPAQUE
END:VEVENT
END:VCALENDAR