BEGIN:VCALENDAR
VERSION:2.0
PRODID:-//jEvents 2.0 for Joomla//EN
CALSCALE:GREGORIAN
METHOD:PUBLISH
BEGIN:VEVENT
UID:daf0c823adb9dc62de45843903428369
CATEGORIES:Compétitions
CREATED:20211221T080731
SUMMARY:PROMO Course de la gueule de bois
URL;VALUE=URI:https://thannski.com/component/jevents/detailevenement/950/-/promo-course-d
 e-la-gueule-de-bois?Itemid=44&amp;tmpl=component
DESCRIPTION:Samedi 01 Janvier 2022  --  GEANT PROMO Course de la gueule de boisStation 
 : GERARDMEROrganisateur : 14089 GERARDMER SKI ALPINDélégué Technique : GOUR
 GUILLON HUBERT\n - PROMO U8/MASTER  Cet évènement a été importé depuis :htt
 ps://thannski.com/component/jevents/detailevenement/950/-/promo-course-de-l
 a-gueule-de-bois?Itemid=44&amp;tmpl=component (https://thannski.com/compone
 nt/jevents/detailevenement/950/-/promo-course-de-la-gueule-de-bois?Itemid=4
 4&amp;tmpl=component)
X-ALT-DESC;FMTTYPE=text/html:<div class="jev_evdt_summary" style="color: #000000; font-style: normal; fo
 nt-weight: normal; letter-spacing: normal; text-align: start; text-indent: 
 0px; text-transform: none; white-space: normal; word-spacing: 0px; text-dec
 oration: none; width: 744.5625px; display: inline-block; padding-bottom: 10
 px; vertical-align: top; border: none; line-height: 1.5em;">Samedi 01 Janvi
 er 2022<span class="Apple-converted-space" style="color: #000000; font-styl
 e: normal; font-weight: normal; letter-spacing: normal; text-align: start; 
 text-indent: 0px; text-transform: none; white-space: normal; word-spacing: 
 0px; text-decoration: none;">&nbsp; -- &nbsp;GEANT</span></div><div class="
 jev_evdt_contact" style="color: #000000; font-style: normal; font-weight: n
 ormal; letter-spacing: normal; text-align: start; text-indent: 0px; text-tr
 ansform: none; white-space: normal; word-spacing: 0px; text-decoration: non
 e; display: inline-block; margin-right: 25px; padding-bottom: 10px; vertica
 l-align: top; border: none; line-height: 1.5em;">&nbsp;</div><div class="je
 v_evdt_desc" style="color: #000000; font-style: normal; font-weight: normal
 ; letter-spacing: normal; text-align: start; text-indent: 0px; text-transfo
 rm: none; white-space: normal; word-spacing: 0px; text-decoration: none; pa
 dding-bottom: 10px; vertical-align: top; border: none; line-height: 1.5em;"
 ><div class="gski-evenement_infos" style="border: none; line-height: 1.5em;
  color: #333333; font-family: 'Helvetica Neue', Helvetica, Arial, sans-seri
 f; font-size: 13px; font-style: normal; font-weight: normal; letter-spacing
 : normal; text-align: start; text-indent: 0px; text-transform: none; white-
 space: normal; word-spacing: 0px; text-decoration: none;"><div class="gski-
 evenement-nom" style="border: none; line-height: 1.5em;">PROMO Course de la
  gueule de bois</div><ul class="gski-evenement-liste-infos" style="padding:
  0px; margin: 0px 0px 9px 25px;"><li style="line-height: 18px;">Station : G
 ERARDMER</li><li style="line-height: 18px;">Organisateur : 14089 GERARDMER 
 SKI ALPIN</li><li style="line-height: 18px;"><span class="gski-evenement-ob
 s">Délégué Technique : GOURGUILLON HUBERT</span></li><li>PROMO U8/MASTER</l
 i></ul><div class="gski-evenement-infos-2" style="border: none; line-height
 : 1.5em;"><div class="gski-evenement-info-inscriptions" style="border: none
 ; line-height: 1.5em;">&nbsp;</div></div></div></div> <a href="https://than
 nski.com/component/jevents/detailevenement/950/-/promo-course-de-la-gueule-
 de-bois?Itemid=44&amp;tmpl=component">Cet évènement a été importé depuis :h
 ttps://thannski.com/component/jevents/detailevenement/950/-/promo-course-de
 -la-gueule-de-bois?Itemid=44&amp;tmpl=component</a>DTSTAMP:20260424T201117
DTSTART;VALUE=DATE:20220101
DTEND;VALUE=DATE:20220102
SEQUENCE:0
TRANSP:OPAQUE
END:VEVENT
END:VCALENDAR