BEGIN:VCALENDAR
VERSION:2.0
PRODID:-//jEvents 2.0 for Joomla//EN
CALSCALE:GREGORIAN
METHOD:PUBLISH
BEGIN:VEVENT
UID:4bb6cf24915433356214b1ecd4a7dad4
CATEGORIES:Compétitions
CREATED:20220107T164211
SUMMARY:CJM Coupe d'Argent U14 (GS Lac Blanc)
URL;VALUE=URI:https://thannski.com/component/jevents/detailevenement/957/-/cjm-coupe-darg
 ent-u14-gs-lac-blanc?Itemid=44&amp;tmpl=component
DESCRIPTION: Samedi 15 Janvier 2022 CJM Coupe d'Argent U14 \n - Codex évenement AMVT016
 0\n - Station : LAC BLANC\n - géant Cet évènement a été importé depuis :htt
 ps://thannski.com/component/jevents/detailevenement/957/-/cjm-coupe-dargent
 -u14-gs-lac-blanc?Itemid=44&amp;tmpl=component
X-ALT-DESC;FMTTYPE=text/html:<div class="jev_evdt_header"><div class="jev_evdt_title">&nbsp;</div></div>
 <div class="jev_eventdetails_body"><div class="jev_evdt_summary">Samedi 15 
 Janvier 2022</div><div class="jev_evdt_contact">&nbsp;</div><div class="jev
 _evdt_desc"><div class="gski-evenement_infos"><div class="gski-evenement-no
 m">CJM Coupe d'Argent U14</div><div class="gski-evenement-report">&nbsp;</d
 iv><ul class="gski-evenement-liste-infos"><li>Codex évenement AMVT0160</li>
 <li>Station : LAC BLANC</li><li>géant</li></ul></div></div></div> <a href="
 https://thannski.com/component/jevents/detailevenement/957/-/cjm-coupe-darg
 ent-u14-gs-lac-blanc?Itemid=44&amp;tmpl=component">Cet évènement a été impo
 rté depuis :https://thannski.com/component/jevents/detailevenement/957/-/cj
 m-coupe-dargent-u14-gs-lac-blanc?Itemid=44&amp;tmpl=component</a>DTSTAMP:20260424T201229
DTSTART:20220115T140000
DTEND:20220115T180000
SEQUENCE:0
TRANSP:OPAQUE
END:VEVENT
END:VCALENDAR