BEGIN:VCALENDAR
VERSION:2.0
PRODID:-//jEvents 2.0 for Joomla//EN
CALSCALE:GREGORIAN
METHOD:PUBLISH
BEGIN:VEVENT
UID:0c339cb9a21e4fb9309e6984a5b1d79b
CATEGORIES:Compétitions
CREATED:20220107T164427
SUMMARY:CJM Coupe d'Argent U16 (OPTIQUE SCHIVY JULBO SCHNEPFENRIED)
URL;VALUE=URI:https://thannski.com/component/jevents/detailevenement/958/-/cjm-coupe-darg
 ent-u16-optique-schivy-julbo-schnepfenried?Itemid=44&amp;tmpl=component
DESCRIPTION:COUPE OPTIQUE SCHIVY JULBOSamedi 15 Janvier 2022    CJM Coupe d'Argent U16 
 COUPE OPTIQUE SCHIVY JULBO \n - Codex évenement AMVT0150\n - Station : SCHN
 EPFENRIED\n - Organisateur : 14199 SKIEURS DU TANET Cet évènement a été imp
 orté depuis :https://thannski.com/component/jevents/detailevenement/958/-/c
 jm-coupe-dargent-u16-optique-schivy-julbo-schnepfenried?Itemid=44&amp;tmpl=
 component
X-ALT-DESC;FMTTYPE=text/html:<div class="jev_evdt_header"><div class="jev_evdt_title">COUPE OPTIQUE SCHI
 VY JULBO</div></div><div class="jev_eventdetails_body"><div class="jev_evdt
 _summary">Samedi 15 Janvier 2022</div>&nbsp;<div class="jev_evdt_creator">&
 nbsp;</div>&nbsp;<div class="jev_evdt_contact">&nbsp;</div><div class="jev_
 evdt_desc"><div class="gski-evenement_infos"><div class="gski-evenement-nom
 ">CJM Coupe d'Argent U16 COUPE OPTIQUE SCHIVY JULBO</div><div class="gski-e
 venement-report">&nbsp;</div><ul class="gski-evenement-liste-infos"><li>Cod
 ex évenement AMVT0150</li><li>Station : SCHNEPFENRIED</li><li>Organisateur 
 : 14199 SKIEURS DU TANET</li></ul></div></div></div> <a href="https://thann
 ski.com/component/jevents/detailevenement/958/-/cjm-coupe-dargent-u16-optiq
 ue-schivy-julbo-schnepfenried?Itemid=44&amp;tmpl=component">Cet évènement a
  été importé depuis :https://thannski.com/component/jevents/detailevenement
 /958/-/cjm-coupe-dargent-u16-optique-schivy-julbo-schnepfenried?Itemid=44&a
 mp;tmpl=component</a>DTSTAMP:20260424T201456
DTSTART:20220115T140000
DTEND:20220115T180000
SEQUENCE:0
TRANSP:OPAQUE
END:VEVENT
END:VCALENDAR